BEGIN:VCALENDAR
PRODID:-//eluceo/ical//2.0/EN
VERSION:2.0
CALSCALE:GREGORIAN
BEGIN:VEVENT
UID:0d4f80f452a9316476c8079a9eb23f3b
DTSTAMP:20260424T075937Z
SUMMARY:Portugal Dreamin&#8217\; 2026
DESCRIPTION:With engaging sessions\, top-notch speakers\, and amazing oppor
 tunities for networking\, Portugal Dreamin’ 2026 promises to be bigger a
 nd better than ever! For more details please see: https://www.salesforcebe
 n.com/event/portugal-dreamin/
URL:https://www.salesforceben.com/event/portugal-dreamin/
DTSTART;VALUE=DATE:20260619
LOCATION:Lisbon\, Portugal
END:VEVENT
END:VCALENDAR
