BEGIN:VCALENDAR
PRODID:-//eluceo/ical//2.0/EN
VERSION:2.0
CALSCALE:GREGORIAN
BEGIN:VEVENT
UID:46573a598016ea8509674592c7335e81
DTSTAMP:20260419T075016Z
SUMMARY:Czech Dreamin&#8217\; 2026
DESCRIPTION:Expect a full day of presentations for admins\, developers\, co
 nsultants or marketers. Pick your sessions and get ready to gain some new 
 knowledge. For more details please see: https://www.salesforceben.com/even
 t/czechdreamin/
URL:https://www.salesforceben.com/event/czechdreamin/
DTSTART:20260529T080000Z
DTEND:20260529T190000
LOCATION:Prague\, Czechia
END:VEVENT
END:VCALENDAR