BEGIN:VCALENDAR
PRODID:-//eluceo/ical//2.0/EN
VERSION:2.0
CALSCALE:GREGORIAN
BEGIN:VEVENT
UID:4f40fca17af2c3b264c64406219d0f2d
DTSTAMP:20260424T104145Z
SUMMARY:Managing Salesforce Integrations in 2026
DESCRIPTION:Salesforce Connected Apps are changing. Learn how new security 
 controls and External Client Apps impact integrations and the practical st
 eps organizations can take to prepare for Salesforce’s evolving governan
 ce model. For more details please see: https://www.salesforceben.com/event
 /managing-salesforce-integrations-in-2026/
URL:https://www.salesforceben.com/event/managing-salesforce-integrations-in
 -2026/
DTSTART:20260512T150000Z
DTEND:20260512T160000Z
LOCATION:Online
END:VEVENT
END:VCALENDAR
