BEGIN:VCALENDAR
PRODID:-//eluceo/ical//2.0/EN
VERSION:2.0
CALSCALE:GREGORIAN
BEGIN:VEVENT
UID:a8d279c59f72998a4cf13948895db752
DTSTAMP:20260424T073928Z
SUMMARY:Unlocking Agentforce With VML
DESCRIPTION:Discover how to harness the power of Agentforce to achieve tang
 ible results in the complex world of Agentic AI.  For more details please 
 see: https://www.salesforceben.com/event/unlocking-agentforce-with-vml/
URL:https://www.salesforceben.com/event/unlocking-agentforce-with-vml/
DTSTART;VALUE=DATE:20260519
LOCATION:London\, UK
END:VEVENT
END:VCALENDAR
