BEGIN:VCALENDAR
PRODID:-//eluceo/ical//2.0/EN
VERSION:2.0
CALSCALE:GREGORIAN
BEGIN:VEVENT
UID:f604aa3fb7da535340a0b0ad3a568609
DTSTAMP:20260424T113349Z
SUMMARY:What It Takes to Operationalize AI in Salesforce
DESCRIPTION:What’s the real state of AI in the enterprise? Join a live we
 binar revealing insights from 800 organizations on what’s working\, what
 ’s stalling\, and how teams are truly scaling AI beyond the hype. For mo
 re details please see: https://www.salesforceben.com/event/what-it-takes-t
 o-operationalize-ai-in-salesforce/
URL:https://www.salesforceben.com/event/what-it-takes-to-operationalize-ai-
 in-salesforce/
DTSTART:20260507T160000Z
DTEND:20260507T170000Z
LOCATION:Online
END:VEVENT
END:VCALENDAR
