BEGIN:VCALENDAR
PRODID:-//eluceo/ical//2.0/EN
VERSION:2.0
CALSCALE:GREGORIAN
BEGIN:VEVENT
UID:9721208fcaaa407dffe0c5a99b86e730
DTSTAMP:20260424T062707Z
SUMMARY:Building Scalable and Resilient Flows
DESCRIPTION:Learn how to build scalable\, reusable Flows with best practice
 s for planning\, error handling\, and long-term growth. For more details p
 lease see: https://www.salesforceben.com/event/building-scalable-and-resil
 ient-flows/
URL:https://www.salesforceben.com/event/building-scalable-and-resilient-flo
 ws/
DTSTART:20260505T150000Z
DTEND:20260505T160000Z
LOCATION:Online
END:VEVENT
END:VCALENDAR