BEGIN:VCALENDAR
PRODID:-//eluceo/ical//2.0/EN
VERSION:2.0
CALSCALE:GREGORIAN
BEGIN:VEVENT
UID:b7ca3af49ac404cf860e46d5b5b5a7d9
DTSTAMP:20260425T015853Z
SUMMARY:Tableau Conference 2026
DESCRIPTION:Tableau Conference is a three-day event designed to transform y
 our approach to data. With inspiring keynotes and hands-on workshops\, the
 re’s something for every data enthusiast. For more details please see: h
 ttps://www.salesforceben.com/event/tableau-conference-2026/
URL:https://www.salesforceben.com/event/tableau-conference-2026/
DTSTART;VALUE=DATE:20260505
DTEND;VALUE=DATE:20260508
LOCATION:San Diego\, CA
END:VEVENT
END:VCALENDAR