BEGIN:VCALENDAR
PRODID:-//eluceo/ical//2.0/EN
VERSION:2.0
CALSCALE:GREGORIAN
BEGIN:VEVENT
UID:5592996b4c5ef088bd9b93d541de1225
DTSTAMP:20260419T082708Z
SUMMARY:WITness Success 2026
DESCRIPTION:WITnessSuccess is a Trailblazer-led conference supporting women
  in the Salesforce ecosystem. Connect\, grow\, and build your career with 
 bootcamps\, insightful sessions\, inspiring keynotes\, and networking oppo
 rtunities. For more details please see: https://www.salesforceben.com/even
 t/witness-success-2026/
URL:https://www.salesforceben.com/event/witness-success-2026/
DTSTART;VALUE=DATE:20260722
DTEND;VALUE=DATE:20260725
LOCATION:Indianapolis\, IN
END:VEVENT
END:VCALENDAR