BEGIN:VCALENDAR
PRODID:-//eluceo/ical//2.0/EN
VERSION:2.0
CALSCALE:GREGORIAN
BEGIN:VEVENT
UID:86a30b13f9a0703dae0df654a2192d76
DTSTAMP:20260423T173108Z
SUMMARY:Wir sind Ohana 2026
DESCRIPTION:Wir sind Ohana is back for its 2026 Trailblazer community confe
 rence! Join Salesforce professionals for networking\, knowledge sharing\, 
 high-impact speeches on diverse topics\, and lots of fun. For more details
  please see: https://www.salesforceben.com/event/wir-sind-ohana-2026/
URL:https://www.salesforceben.com/event/wir-sind-ohana-2026/
DTSTART;VALUE=DATE:20260508
LOCATION:Berlin\, Germany
END:VEVENT
END:VCALENDAR