BEGIN:VCALENDAR
PRODID:-//eluceo/ical//2.0/EN
VERSION:2.0
CALSCALE:GREGORIAN
BEGIN:VEVENT
UID:b63f919713483210cff20dda5ba36239
DTSTAMP:20260424T062036Z
SUMMARY:Mid-Atlantic Dreamin&#8217\; 2026
DESCRIPTION:Mid-Atlantic Dreamin' is a community conference for those with 
 a passion for the Salesforce platform\, covering all aspects of Salesforce
 \, including career development\, sales\, marketing\, service\, analytics\
 , and more! For more details please see: https://www.salesforceben.com/eve
 nt/mid-atlantic-dreamin-2026/
URL:https://www.salesforceben.com/event/mid-atlantic-dreamin-2026/
DTSTART;VALUE=DATE:20260504
LOCATION:Philadelphia\, PA
END:VEVENT
END:VCALENDAR
