BEGIN:VCALENDAR
PRODID:-//eluceo/ical//2.0/EN
VERSION:2.0
CALSCALE:GREGORIAN
BEGIN:VEVENT
UID:af2175bfd0b641eee1067909c4484770
DTSTAMP:20260424T073930Z
SUMMARY:Connections 2026
DESCRIPTION:Experience the latest innovations driving smarter\, two-way cus
 tomer conversations at Connections 2026. It’s an opportunity to build la
 sting relationships with industry-leading marketers. For more details plea
 se see: https://www.salesforceben.com/event/connections-2026/
URL:https://www.salesforceben.com/event/connections-2026/
DTSTART;VALUE=DATE:20260603
DTEND;VALUE=DATE:20260605
LOCATION:Chicago\, IL
END:VEVENT
END:VCALENDAR
