BEGIN:VCALENDAR
PRODID:-//eluceo/ical//2.0/EN
VERSION:2.0
CALSCALE:GREGORIAN
BEGIN:VEVENT
UID:efef4bf8cd1eac33fc8e360383de03cd
DTSTAMP:20260423T180856Z
SUMMARY:True North Dreamin&#8217\; 2026
DESCRIPTION:Whether you’re based in Canada or traveling in from abroad\, 
 True North Dreamin’ offers a community-driven Salesforce conference with
  high-quality content and a uniquely welcoming atmosphere. For more detail
 s please see: https://www.salesforceben.com/event/true-north-dreamin-2026/
URL:https://www.salesforceben.com/event/true-north-dreamin-2026/
DTSTART;VALUE=DATE:20260511
DTEND;VALUE=DATE:20260513
LOCATION:Toronto\, Canada
END:VEVENT
END:VCALENDAR
