BEGIN:VCALENDAR
PRODID:-//eluceo/ical//2.0/EN
VERSION:2.0
CALSCALE:GREGORIAN
BEGIN:VEVENT
UID:86e7c1774d7e4a3ba61a053b756c752b
DTSTAMP:20260425T104337Z
SUMMARY:Architect Dreamin’ Americas 2026
DESCRIPTION:Architect Dreamin’ is the place to be. With a focus on peer l
 earning and experiential discovery\, there is much on offer to help you be
  a part of shaping the future of scalable\, sustainable Salesforce solutio
 ns. For more details please see: https://www.salesforceben.com/event/archi
 tect-dreamin-americas-2026/
URL:https://www.salesforceben.com/event/architect-dreamin-americas-2026/
DTSTART;VALUE=DATE:20260121
DTEND;VALUE=DATE:20260123
LOCATION:Scottsdale\, AZ
END:VEVENT
END:VCALENDAR
