BEGIN:VCALENDAR
PRODID:-//eluceo/ical//2.0/EN
VERSION:2.0
CALSCALE:GREGORIAN
BEGIN:VEVENT
UID:6705b5c0ca772c4ce856b107b57b307c
DTSTAMP:20260419T084114Z
SUMMARY:London&#8217\;s Calling 2026
DESCRIPTION:Europe’s largest community-led event for Salesforce professio
 nals is returning to London in 2026\, promising another special experience
 .\n For more details please see: https://www.salesforceben.com/event/londo
 ns-calling-2026/
URL:https://www.salesforceben.com/event/londons-calling-2026/
DTSTART:20260605T083000Z
DTEND:20260605T093000Z
LOCATION:London\, UK
END:VEVENT
END:VCALENDAR
